BEGIN:VCALENDAR
VERSION:2.0
PRODID:-//jEvents 2.0 for Joomla//EN
CALSCALE:GREGORIAN
METHOD:PUBLISH
BEGIN:VEVENT
UID:47c551d1c7827b15b21c7dd6737a6dbb
CATEGORIES:PvE
CREATED:20210119T191703
SUMMARY:weekly NYR E10
DESCRIPTION:E10 for cabalies (+ people we need to clear it)\n
X-ALT-DESC;FMTTYPE=text/html:<p>E10 for cabalies (+ people we need to clear it)</p>
DTSTAMP:20260425T104406
DTSTART;TZID=UTC:20210316T180000
DTEND;TZID=UTC:20210316T190000
SEQUENCE:0
TRANSP:OPAQUE
END:VEVENT
END:VCALENDAR