BEGIN:VCALENDAR
VERSION:2.0
PRODID:-//jEvents 2.0 for Joomla//EN
CALSCALE:GREGORIAN
METHOD:PUBLISH
BEGIN:VEVENT
UID:eacdeac298670312e8743ba65f22f50b
CATEGORIES:PvE
CREATED:20210323T011146
SUMMARY:Regionals Burn
LOCATION:Agartha
DESCRIPTION:Sundays at 7 PM UTC we will hold a Regionals burn, depending on availabilit
 y of essences and/or interest from the cabal. \nTanked by Razorgrin, unless
  someone else has an interest in tanking as well. Razor will need a healer 
 (pls halp me). \n2:00 PM CST, 9:00 PM UTC+2  \n
X-ALT-DESC;FMTTYPE=text/html:<p>Sundays at 7 PM UTC we will hold a Regionals burn, depending on availabi
 lity of essences and/or interest from the cabal. </p><p>Tanked by Razorgrin
 , unless someone else has an interest in tanking as well. Razor will need a
  healer (pls halp me). </p><p>2:00 PM CST, 9:00 PM UTC+2  </p>
CONTACT:Razorgrin
DTSTAMP:20260425T104407
DTSTART;TZID=UTC:20210530T190000
DTEND;TZID=UTC:20210530T200000
SEQUENCE:0
TRANSP:OPAQUE
END:VEVENT
END:VCALENDAR