BEGIN:VCALENDAR
VERSION:2.0
PRODID:-//jEvents 2.0 for Joomla//EN
CALSCALE:GREGORIAN
METHOD:PUBLISH
BEGIN:VEVENT
UID:5903408038101d73689d19f62db99e92
CATEGORIES:PvE
CREATED:20220715T175659
SUMMARY:Mega Bosses Summoning
DESCRIPTION:<p>We are summoning some (5 usually) Mega Bosses on the Agartha public raid
 s platform.</p>
DTSTAMP:20260423T033446
DTSTART;TZID=UTC:20220722T100000
DTEND;TZID=UTC:20220722T110000
SEQUENCE:0
TRANSP:OPAQUE
END:VEVENT
END:VCALENDAR