BEGIN:VCALENDAR
VERSION:2.0
PRODID:-//jEvents 2.0 for Joomla//EN
CALSCALE:GREGORIAN
METHOD:PUBLISH
BEGIN:VEVENT
UID:8b5e6918c9579e62f34558ac0d38c0f3
CATEGORIES:PvE
CREATED:20180305T214723
SUMMARY:Weekly NYR E5 Practice Run
DESCRIPTION:NYR E5 Practice Run. Expect to die many times, if we succeed it'll be a mir
 acle! Must have ip 450 to sign-up.\n \nSign-up here: https://www.nine-sword
 s.com/forums/18/11381 (forums/18/11381)\n \n
X-ALT-DESC;FMTTYPE=text/html:<p>NYR E5 Practice Run. Expect to die many times, if we succeed it'll be a 
 miracle! Must have ip 450 to sign-up.</p><p> </p><p>Sign-up here: <a href="
 forums/18/11381">https://www.nine-swords.com/forums/18/11381</a></p><p> </p
 >
DTSTAMP:20260422T000018
DTSTART;TZID=UTC:Ymd\THis
DTEND;TZID=UTC:20180428T190000
SEQUENCE:0
TRANSP:OPAQUE
END:VEVENT
END:VCALENDAR