BEGIN:VCALENDAR
VERSION:2.0
PRODID:-//jEvents 2.0 for Joomla//EN
CALSCALE:GREGORIAN
METHOD:PUBLISH
BEGIN:VEVENT
UID:f3e40466d9702aa5839f27226ba81335
CATEGORIES:PvE
CREATED:20180326T084046
SUMMARY:Weekly SM and E1 NYR
DESCRIPTION:Sign up in the forums!\n \nPlease state if you haven't done it before (try 
 to read our guide and pick up the mission from the Activities: Paragon vend
 or machine in Agartha before we start).\n
X-ALT-DESC;FMTTYPE=text/html:<p>Sign up in the forums!</p><p> </p><p>Please state if you haven't done it
  before (try to read our guide and pick up the mission from the Activities:
  Paragon vendor machine in Agartha before we start).</p>
DTSTAMP:20260422T014228
DTSTART;TZID=UTC:20180502T191500
DTEND;TZID=UTC:20180502T200000
SEQUENCE:0
TRANSP:OPAQUE
END:VEVENT
END:VCALENDAR