BEGIN:VCALENDAR
VERSION:2.0
PRODID:-//jEvents 2.0 for Joomla//EN
CALSCALE:GREGORIAN
METHOD:PUBLISH
BEGIN:VEVENT
UID:2eaa3389a0b4c002d3aea182ee38ebd8
CATEGORIES:PvE
CREATED:20180319T074757
SUMMARY:Weekly Regional Boss Farm
DESCRIPTION:<p>Regional Boss Farm! We'll Take care of all the regional bosses that peop
 le need for achievement, then settle on a regional boss of tank's choice x1
 0.</p><p>No ip requirement.</p><p>No Sign-up required.</p><p>Be there 5min 
 before start of event for invites. You can leech if we happen to be full.</
 p>
DTSTAMP:20260422T000051
DTSTART;TZID=UTC:20180426T193000
DTEND;TZID=UTC:20180426T203000
SEQUENCE:0
TRANSP:OPAQUE
END:VEVENT
END:VCALENDAR