BEGIN:VCALENDAR
VERSION:2.0
PRODID:-//jEvents 2.0 for Joomla//EN
CALSCALE:GREGORIAN
METHOD:PUBLISH
BEGIN:VEVENT
UID:d27e19555089ceaefd9eb3fa7dca7c23
CATEGORIES:PvE
CREATED:20180818T150859
SUMMARY:NYR E10 Practice Run
DESCRIPTION:IP 1k to sign-up: \n
X-ALT-DESC;FMTTYPE=text/html:<p>IP 1k to sign-up: </p>
DTSTAMP:20260421T222054
DTSTART;TZID=UTC:20181225T193000
DTEND;TZID=UTC:20181225T203000
SEQUENCE:0
TRANSP:OPAQUE
END:VEVENT
END:VCALENDAR