BEGIN:VCALENDAR
VERSION:2.0
PRODID:-//jEvents 2.0 for Joomla//EN
CALSCALE:GREGORIAN
METHOD:PUBLISH
BEGIN:VEVENT
UID:936a32b6884f871f364b087d05ec63c9
CATEGORIES:PvE
CREATED:20181010T030000
SUMMARY:Weekly NYR E5 (Sundays)
DESCRIPTION:Sign up in form: https://www.nine-swords.com/forums/18/11930 (forums/18/119
 30)\n \n
X-ALT-DESC;FMTTYPE=text/html:<p>Sign up in form: <a href="forums/18/11930">https://www.nine-swords.com/f
 orums/18/11930</a></p><p> </p>
DTSTAMP:20260421T222053
DTSTART;TZID=UTC:Ymd\THis
DTEND;TZID=UTC:20181223T200000
SEQUENCE:0
TRANSP:OPAQUE
END:VEVENT
END:VCALENDAR