BEGIN:VCALENDAR
VERSION:2.0
PRODID:-//jEvents 2.0 for Joomla//EN
CALSCALE:GREGORIAN
METHOD:PUBLISH
BEGIN:VEVENT
UID:b62a2502e55d0225e78d75bbd8178494
CATEGORIES:PvE
CREATED:20180716T190120
SUMMARY:Weekly NYR E5 (Wednesdays)
DESCRIPTION:<p>Sign-up here: </p>
DTSTAMP:20260421T222208
DTSTART;TZID=UTC:20181212T193000
DTEND;TZID=UTC:20181212T200000
SEQUENCE:0
TRANSP:OPAQUE
END:VEVENT
END:VCALENDAR