BEGIN:VCALENDAR
VERSION:2.0
PRODID:-//jEvents 2.0 for Joomla//EN
CALSCALE:GREGORIAN
METHOD:PUBLISH
BEGIN:VEVENT
UID:b62a2502e55d0225e78d75bbd8178494
CATEGORIES:PvE
CREATED:20180716T190120
SUMMARY:Weekly NYR E5 (Wednesdays)
DESCRIPTION:<p>Sign-up here: <a href="forums/18/11967">https://www.nine-swords.com/foru
 ms/18/11967</a></p><p> </p>
DTSTAMP:20260421T222209
DTSTART;TZID=UTC:Ymd\THis
DTEND;TZID=UTC:20190116T200000
SEQUENCE:0
TRANSP:OPAQUE
END:VEVENT
END:VCALENDAR