BEGIN:VCALENDAR
VERSION:2.0
PRODID:-//jEvents 2.0 for Joomla//EN
CALSCALE:GREGORIAN
METHOD:PUBLISH
BEGIN:VEVENT
UID:a424d2873ee463625bf252e2072ca115
CATEGORIES:PvE
CREATED:20190106T094759
SUMMARY:Monster Hunting
DESCRIPTION:Weekly Monster Hunting -\nCheck out the Noticeboard forum for sign up and t
 arget information.\n \n
X-ALT-DESC;FMTTYPE=text/html:<p>Weekly Monster Hunting -</p><p>Check out the Noticeboard forum for sign 
 up and target information.</p><p> </p>
DTSTAMP:20260421T204432
DTSTART;TZID=UTC:20190128T190000
DTEND;TZID=UTC:20190128T194500
SEQUENCE:0
TRANSP:OPAQUE
END:VEVENT
END:VCALENDAR