BEGIN:VCALENDAR
VERSION:2.0
PRODID:-//jEvents 2.0 for Joomla//EN
CALSCALE:GREGORIAN
METHOD:PUBLISH
BEGIN:VEVENT
UID:b84d8beb9be6eb487aada5023a501e01
CATEGORIES:PvE
CREATED:20190718T193814
SUMMARY:NYR E10 (2nd Chance)
DESCRIPTION:<p>YES! More Sushi!</p>
DTSTAMP:20260422T095403
DTSTART;TZID=UTC:20190914T180000
DTEND;TZID=UTC:20190914T190000
SEQUENCE:0
TRANSP:OPAQUE
END:VEVENT
END:VCALENDAR