BEGIN:VCALENDAR
VERSION:2.0
PRODID:-//jEvents 2.0 for Joomla//EN
CALSCALE:GREGORIAN
METHOD:PUBLISH
BEGIN:VEVENT
UID:6918c744cc313287e3c1d5122e2bf075
CATEGORIES:PvE
CREATED:20190802T062539
SUMMARY:Lair week. 
DESCRIPTION:<p>1 lair on the hour! </p>
DTSTAMP:20260422T130428
DTSTART;TZID=UTC:20190807T180000
DTEND;TZID=UTC:20190807T183000
SEQUENCE:0
TRANSP:OPAQUE
END:VEVENT
END:VCALENDAR