BEGIN:VCALENDAR
VERSION:2.0
PRODID:-//jEvents 2.0 for Joomla//EN
CALSCALE:GREGORIAN
METHOD:PUBLISH
BEGIN:VEVENT
UID:a415e94de3c4e21fc8b04bfffc73edae
CATEGORIES:PvE
CREATED:20190906T184706
SUMMARY:Double Lair
DESCRIPTION:Monday double lair.\n7pm gmt start time. Likely to take 45mins \nSign up fo
 r the lair in the thread in the notice board forum when its there :)\n
X-ALT-DESC;FMTTYPE=text/html:<p>Monday double lair.</p><p>7pm gmt start time. Likely to take 45mins </p>
 <p>Sign up for the lair in the thread in the notice board forum when its th
 ere :)</p>
DTSTAMP:20260422T082051
DTSTART;TZID=UTC:20190923T190000
DTEND;TZID=UTC:20190923T194500
SEQUENCE:0
TRANSP:OPAQUE
END:VEVENT
END:VCALENDAR