BEGIN:VCALENDAR
VERSION:2.0
PRODID:-//jEvents 2.0 for Joomla//EN
CALSCALE:GREGORIAN
METHOD:PUBLISH
BEGIN:VEVENT
UID:0acbd5433340d32dbe9939381e70ed35
CATEGORIES:PvE
CREATED:20191002T151547
SUMMARY:NYR E10 
DESCRIPTION:<p>No Signup required++++++++++</p>
DTSTAMP:20260422T031257
DTSTART;TZID=UTC:20191001T183000
SEQUENCE:0
TRANSP:OPAQUE
END:VEVENT
END:VCALENDAR